BEGIN:VCALENDAR
VERSION:2.0
PRODID:-//Gangpferde Vierhaus - ECPv6.8.1//NONSGML v1.0//EN
CALSCALE:GREGORIAN
METHOD:PUBLISH
X-WR-CALNAME:Gangpferde Vierhaus
X-ORIGINAL-URL:https://www.gangpferde-vierhaus.de
X-WR-CALDESC:Veranstaltungen für Gangpferde Vierhaus
REFRESH-INTERVAL;VALUE=DURATION:PT1H
X-Robots-Tag:noindex
X-PUBLISHED-TTL:PT1H
BEGIN:VTIMEZONE
TZID:Europe/Berlin
BEGIN:DAYLIGHT
TZOFFSETFROM:+0100
TZOFFSETTO:+0200
TZNAME:CEST
DTSTART:20260329T010000
END:DAYLIGHT
BEGIN:STANDARD
TZOFFSETFROM:+0200
TZOFFSETTO:+0100
TZNAME:CET
DTSTART:20261025T010000
END:STANDARD
END:VTIMEZONE
BEGIN:VEVENT
DTSTART;TZID=Europe/Berlin:20260425T100000
DTEND;TZID=Europe/Berlin:20260425T163000
DTSTAMP:20260425T160237
CREATED:20250111T123944Z
LAST-MODIFIED:20260114T171542Z
UID:809-1777111200-1777134600@www.gangpferde-vierhaus.de
SUMMARY:Kurs: Gewöhnung an Rinder
DESCRIPTION:In unserem bewährten Kurs gewöhnen wir Pferd und Reiter behutsam an freilaufende Rinder und vermitteln ein Verständnis für die „Rindersprache“. Gemeinsam üben wir\, die Rinder zu treiben und gezielt um Hindernisse zu führen. \nWeitere Infos und Anmeldung per E-Mail an info@gangpferdevierhaus.de
URL:https://www.gangpferde-vierhaus.de/termin/rinder-tages-kurs-2/
LOCATION:Gangpferde Vierhaus\, Landwehr 12\, Hünxe Drevenack\, 46569\, Deutschland
CATEGORIES:Lehrgänge
ATTACH;FMTTYPE=image/jpeg:https://www.gangpferde-vierhaus.de/wp-content/uploads/2019/01/rinder-tageskurs-2403.jpg
ORGANIZER;CN="Gangpferde Vierhaus":MAILTO:info@gangpferde-vierhaus.de
END:VEVENT
BEGIN:VEVENT
DTSTART;TZID=Europe/Berlin:20260426T100000
DTEND;TZID=Europe/Berlin:20260426T163000
DTSTAMP:20260425T160237
CREATED:20250111T123144Z
LAST-MODIFIED:20260114T171526Z
UID:803-1777197600-1777221000@www.gangpferde-vierhaus.de
SUMMARY:Kurs: Gewöhnung an Rinder
DESCRIPTION:In unserem bewährten Kurs gewöhnen wir Pferd und Reiter behutsam an freilaufende Rinder und vermitteln ein Verständnis für die „Rindersprache“. Gemeinsam üben wir\, die Rinder zu treiben und gezielt um Hindernisse zu führen. \nWeitere Infos und Anmeldung per E-Mail an info@gangpferdevierhaus.de
URL:https://www.gangpferde-vierhaus.de/termin/rinder-tages-kurs/
LOCATION:Gangpferde Vierhaus\, Landwehr 12\, Hünxe Drevenack\, 46569\, Deutschland
CATEGORIES:Lehrgänge
ATTACH;FMTTYPE=image/jpeg:https://www.gangpferde-vierhaus.de/wp-content/uploads/2019/01/rinder-2tageskurs-3003.jpg
ORGANIZER;CN="Gangpferde Vierhaus":MAILTO:info@gangpferde-vierhaus.de
END:VEVENT
BEGIN:VEVENT
DTSTART;TZID=Europe/Berlin:20260509T100000
DTEND;TZID=Europe/Berlin:20260509T163000
DTSTAMP:20260425T160237
CREATED:20250111T125233Z
LAST-MODIFIED:20260114T171458Z
UID:813-1778320800-1778344200@www.gangpferde-vierhaus.de
SUMMARY:Kurs: GWE Trailkurs
DESCRIPTION:In unserem GWE-Trailkurs erarbeiten wir die einzelnen Hindernisse der Working Equitation Dressur Schritt für Schritt. Dabei stehen feine Hilfengebung\, Geschicklichkeit sowie der Aufbau von Vertrauen und Partnerschaft zwischen Reiter und Pferd im Mittelpunkt. Der Kurs ist für alle Pferderassen geeignet – ganz gleich\, ob Gangpferd oder Nicht-Gangpferd. \nWeitere Infos und Anmeldung per E-Mail an info@gangpferdevierhaus.de
URL:https://www.gangpferde-vierhaus.de/termin/working-equitation-trail-kurs-2/
LOCATION:Gangpferde Vierhaus\, Landwehr 12\, Hünxe Drevenack\, 46569\, Deutschland
CATEGORIES:Lehrgänge
ATTACH;FMTTYPE=image/jpeg:https://www.gangpferde-vierhaus.de/wp-content/uploads/2018/03/gangpferde-vierhaus-36.jpg
ORGANIZER;CN="Gangpferde Vierhaus":MAILTO:info@gangpferde-vierhaus.de
END:VEVENT
BEGIN:VEVENT
DTSTART;TZID=Europe/Berlin:20260510T100000
DTEND;TZID=Europe/Berlin:20260510T163000
DTSTAMP:20260425T160237
CREATED:20250111T124908Z
LAST-MODIFIED:20260114T171434Z
UID:811-1778407200-1778430600@www.gangpferde-vierhaus.de
SUMMARY:Kurs: GWE Trailkurs
DESCRIPTION:In unserem GWE-Trailkurs erarbeiten wir die einzelnen Hindernisse der Working Equitation Dressur Schritt für Schritt. Dabei stehen feine Hilfengebung\, Geschicklichkeit sowie der Aufbau von Vertrauen und Partnerschaft zwischen Reiter und Pferd im Mittelpunkt. Der Kurs ist für alle Pferderassen geeignet – ganz gleich\, ob Gangpferd oder Nicht-Gangpferd. \nWeitere Infos und Anmeldung per E-Mail an info@gangpferdevierhaus.de
URL:https://www.gangpferde-vierhaus.de/termin/working-equitation-trail-kurs/
LOCATION:Gangpferde Vierhaus\, Landwehr 12\, Hünxe Drevenack\, 46569\, Deutschland
CATEGORIES:Lehrgänge
ATTACH;FMTTYPE=image/jpeg:https://www.gangpferde-vierhaus.de/wp-content/uploads/2018/03/gangpferde-vierhaus-24.jpg
ORGANIZER;CN="Gangpferde Vierhaus":MAILTO:info@gangpferde-vierhaus.de
END:VEVENT
BEGIN:VEVENT
DTSTART;TZID=Europe/Berlin:20260530T100000
DTEND;TZID=Europe/Berlin:20260530T160000
DTSTAMP:20260425T160237
CREATED:20260113T195533Z
LAST-MODIFIED:20260114T171410Z
UID:831-1780135200-1780156800@www.gangpferde-vierhaus.de
SUMMARY:Kurs "Gangtraining" ( Tölt\, Walk\, Foxtrott und Co. ) 🙂
DESCRIPTION:Reiterinnen und Reiter lernen\, die genetisch möglichen Viertakt-Gangarten ihres Gangpferdes korrekt zu reiten\, sie zu erfühlen und über Sitz und reiterliche Hilfen gezielt zu beeinflussen. \nWeitere Infos und Anmeldung per E-Mail an info@gangpferdevierhaus.de
URL:https://www.gangpferde-vierhaus.de/termin/kurs-gangtraining-toelt-walk-foxtrott-und-co-%f0%9f%99%82/
LOCATION:Gangpferde Vierhaus\, Landwehr 12\, Hünxe Drevenack\, 46569\, Deutschland
CATEGORIES:Lehrgänge
ATTACH;FMTTYPE=image/jpeg:https://www.gangpferde-vierhaus.de/wp-content/uploads/2018/03/reitunterricht-1.jpg
ORGANIZER;CN="Gangpferde Vierhaus":MAILTO:info@gangpferde-vierhaus.de
END:VEVENT
END:VCALENDAR